BEGIN:VCALENDAR
VERSION:2.0
PRODID:-//Blue Ridge Community Support Team - ECPv6.15.20//NONSGML v1.0//EN
CALSCALE:GREGORIAN
METHOD:PUBLISH
X-WR-CALNAME:Blue Ridge Community Support Team
X-ORIGINAL-URL:https://brcstaz.org
X-WR-CALDESC:Events for Blue Ridge Community Support Team
REFRESH-INTERVAL;VALUE=DURATION:PT1H
X-Robots-Tag:noindex
X-PUBLISHED-TTL:PT1H
BEGIN:VTIMEZONE
TZID:America/Phoenix
BEGIN:STANDARD
TZOFFSETFROM:-0700
TZOFFSETTO:-0700
TZNAME:MST
DTSTART:20240101T000000
END:STANDARD
END:VTIMEZONE
BEGIN:VEVENT
DTSTART;TZID=America/Phoenix:20250503T080000
DTEND;TZID=America/Phoenix:20250503T100000
DTSTAMP:20260424T101503
CREATED:20250212T153223Z
LAST-MODIFIED:20250212T153223Z
UID:209-1746259200-1746266400@brcstaz.org
SUMMARY:BRFD Pancake Breakfast
DESCRIPTION:Blue Ridge Fire District is hosting their annual pancake breakfast to welcome residents back to the mountain. This year it coincides with the national campaing for Wildfire Awareness. BRCST\, along with other agencies will be presenting information on how to be prepared for the upcoming wildfire season. \nThe link below provides more information on the event. \nWildfire Awareness Poster 2025
URL:https://brcstaz.org/event/brfd-pancake-breakfast/
LOCATION:Blue Ridge Fire Department\, 5023 Enchanted Lane\, Happy Jack\, AZ\, 86024\, United States
END:VEVENT
END:VCALENDAR