BEGIN:VCALENDAR
VERSION:2.0
PRODID:-//Blue Ridge Community Support Team - ECPv6.15.20//NONSGML v1.0//EN
CALSCALE:GREGORIAN
METHOD:PUBLISH
X-WR-CALNAME:Blue Ridge Community Support Team
X-ORIGINAL-URL:https://brcstaz.org
X-WR-CALDESC:Events for Blue Ridge Community Support Team
REFRESH-INTERVAL;VALUE=DURATION:PT1H
X-Robots-Tag:noindex
X-PUBLISHED-TTL:PT1H
BEGIN:VTIMEZONE
TZID:America/Phoenix
BEGIN:STANDARD
TZOFFSETFROM:-0700
TZOFFSETTO:-0700
TZNAME:MST
DTSTART:20240101T000000
END:STANDARD
END:VTIMEZONE
BEGIN:VEVENT
DTSTART;TZID=America/Phoenix:20250517T100000
DTEND;TZID=America/Phoenix:20250517T140000
DTSTAMP:20260424T101410
CREATED:20250409T145523Z
LAST-MODIFIED:20250417T205556Z
UID:242-1747476000-1747490400@brcstaz.org
SUMMARY:Active Shooter / Stop the Bleed Seminar
DESCRIPTION:In coordination with Coconino County Sheriff’s Office BRCST is hosting a seminar for Active Shooter and Stop the Bleed. The goals of this seminar is to raise awareness and prepare community residents with an understanding and skills to handle emergency situations that may arise. \n\n\n\nThe seminar will be held on Saturday\, May 17\, 2025 from 10:00 AM to 2:00 PM at the Blue Ridge Community Church. Lunch will be provided. \n\n\n\nWe will have limited seating for this seminar\, so registration is highly recommended. Please use the form below to register your seat to attend. Active Shooter / Stop the Bleed
URL:https://brcstaz.org/event/active-shooter-stop-the-bleed-seminar/
LOCATION:BLue Ridge Community Chuch\, 5706 N. Worship Way\, Happy Jack\, AZ\, 86024\, United States
END:VEVENT
END:VCALENDAR