BEGIN:VCALENDAR
VERSION:2.0
PRODID:-//Blue Ridge Community Support Team - ECPv6.15.20//NONSGML v1.0//EN
CALSCALE:GREGORIAN
METHOD:PUBLISH
X-WR-CALNAME:Blue Ridge Community Support Team
X-ORIGINAL-URL:https://brcstaz.org
X-WR-CALDESC:Events for Blue Ridge Community Support Team
REFRESH-INTERVAL;VALUE=DURATION:PT1H
X-Robots-Tag:noindex
X-PUBLISHED-TTL:PT1H
BEGIN:VTIMEZONE
TZID:America/Phoenix
BEGIN:STANDARD
TZOFFSETFROM:-0700
TZOFFSETTO:-0700
TZNAME:MST
DTSTART:20240101T000000
END:STANDARD
END:VTIMEZONE
BEGIN:VEVENT
DTSTART;TZID=America/Phoenix:20250705T080000
DTEND;TZID=America/Phoenix:20250705T140000
DTSTAMP:20260424T052354
CREATED:20250611T155159Z
LAST-MODIFIED:20250611T155159Z
UID:261-1751702400-1751724000@brcstaz.org
SUMMARY:2025 BRFDA Craft Show
DESCRIPTION:Stop by our table at the BRFD Auxiliary “Red Hot Mamas” Craft Show and Sale on July 5th to check out the latest upcoming events and information about BRCST.
URL:https://brcstaz.org/event/2025-brfda-craft-show/
LOCATION:Blue Ridge Fire Department\, 5023 Enchanted Lane\, Happy Jack\, AZ\, 86024\, United States
END:VEVENT
END:VCALENDAR