BEGIN:VCALENDAR
VERSION:2.0
PRODID:-//Blue Ridge Community Support Team - ECPv6.15.20//NONSGML v1.0//EN
CALSCALE:GREGORIAN
METHOD:PUBLISH
X-WR-CALNAME:Blue Ridge Community Support Team
X-ORIGINAL-URL:https://brcstaz.org
X-WR-CALDESC:Events for Blue Ridge Community Support Team
REFRESH-INTERVAL;VALUE=DURATION:PT1H
X-Robots-Tag:noindex
X-PUBLISHED-TTL:PT1H
BEGIN:VTIMEZONE
TZID:America/Phoenix
BEGIN:STANDARD
TZOFFSETFROM:-0700
TZOFFSETTO:-0700
TZNAME:MST
DTSTART:20240101T000000
END:STANDARD
END:VTIMEZONE
BEGIN:VEVENT
DTSTART;TZID=America/Phoenix:20250909T180000
DTEND;TZID=America/Phoenix:20250909T190000
DTSTAMP:20260422T030652
CREATED:20250813T155803Z
LAST-MODIFIED:20250813T155803Z
UID:280-1757440800-1757444400@brcstaz.org
SUMMARY:General Meeting - September 2025
DESCRIPTION:Our next General Meeting will be September 9\, 2025 at 6:00 PM. We meet at Blue Ridge Community Church. anyone in the community is welcome.
URL:https://brcstaz.org/event/general-meeting-september-2025/
LOCATION:BLue Ridge Community Chuch\, 5706 N. Worship Way\, Happy Jack\, AZ\, 86024\, United States
END:VEVENT
END:VCALENDAR