BEGIN:VCALENDAR
VERSION:2.0
PRODID:-//Blue Ridge Community Support Team - ECPv6.15.20//NONSGML v1.0//EN
CALSCALE:GREGORIAN
METHOD:PUBLISH
X-ORIGINAL-URL:https://brcstaz.org
X-WR-CALDESC:Events for Blue Ridge Community Support Team
REFRESH-INTERVAL;VALUE=DURATION:PT1H
X-Robots-Tag:noindex
X-PUBLISHED-TTL:PT1H
BEGIN:VTIMEZONE
TZID:America/Phoenix
BEGIN:STANDARD
TZOFFSETFROM:-0700
TZOFFSETTO:-0700
TZNAME:MST
DTSTART:20240101T000000
END:STANDARD
END:VTIMEZONE
BEGIN:VEVENT
DTSTART;TZID=America/Phoenix:20250503T080000
DTEND;TZID=America/Phoenix:20250503T100000
DTSTAMP:20260425T064521
CREATED:20250212T153223Z
LAST-MODIFIED:20250212T153223Z
UID:209-1746259200-1746266400@brcstaz.org
SUMMARY:BRFD Pancake Breakfast
DESCRIPTION:Blue Ridge Fire District is hosting their annual pancake breakfast to welcome residents back to the mountain. This year it coincides with the national campaing for Wildfire Awareness. BRCST\, along with other agencies will be presenting information on how to be prepared for the upcoming wildfire season. \nThe link below provides more information on the event. \nWildfire Awareness Poster 2025
URL:https://brcstaz.org/event/brfd-pancake-breakfast/
LOCATION:Blue Ridge Fire Department\, 5023 Enchanted Lane\, Happy Jack\, AZ\, 86024\, United States
END:VEVENT
BEGIN:VEVENT
DTSTART;TZID=America/Phoenix:20250517T100000
DTEND;TZID=America/Phoenix:20250517T140000
DTSTAMP:20260425T064521
CREATED:20250409T145523Z
LAST-MODIFIED:20250417T205556Z
UID:242-1747476000-1747490400@brcstaz.org
SUMMARY:Active Shooter / Stop the Bleed Seminar
DESCRIPTION:In coordination with Coconino County Sheriff’s Office BRCST is hosting a seminar for Active Shooter and Stop the Bleed. The goals of this seminar is to raise awareness and prepare community residents with an understanding and skills to handle emergency situations that may arise. \n\n\n\nThe seminar will be held on Saturday\, May 17\, 2025 from 10:00 AM to 2:00 PM at the Blue Ridge Community Church. Lunch will be provided. \n\n\n\nWe will have limited seating for this seminar\, so registration is highly recommended. Please use the form below to register your seat to attend. Active Shooter / Stop the Bleed
URL:https://brcstaz.org/event/active-shooter-stop-the-bleed-seminar/
LOCATION:BLue Ridge Community Chuch\, 5706 N. Worship Way\, Happy Jack\, AZ\, 86024\, United States
END:VEVENT
BEGIN:VEVENT
DTSTART;TZID=America/Phoenix:20250607T120000
DTEND;TZID=America/Phoenix:20250607T150000
DTSTAMP:20260425T064521
CREATED:20250514T145652Z
LAST-MODIFIED:20250514T145652Z
UID:252-1749297600-1749308400@brcstaz.org
SUMMARY:BRCST Open House
DESCRIPTION:Save the Date! \nOn June 7\, 2025\, BRCST will be having an Open House Event from 12:00 – 3:00 PM at the Community Center and Park in Clear Creek Pines 8&9 off Enchanted Lane. \nThe event is free and food will be provided. \nThe Event will provide detailed information and demos on each of the main services offered by BRCST\, laong with a seminar to provide important information to our community. \nWe will have tables set up for our partner organizations from Coconino county and local groups to share. \nSee you there!
URL:https://brcstaz.org/event/brcst-open-house/
LOCATION:CCP 8&9\, 5205 Enchanted Lane\, Happy Jack\, AZ\, 86024\, United States
END:VEVENT
BEGIN:VEVENT
DTSTART;TZID=America/Phoenix:20250705T080000
DTEND;TZID=America/Phoenix:20250705T140000
DTSTAMP:20260425T064521
CREATED:20250611T155159Z
LAST-MODIFIED:20250611T155159Z
UID:261-1751702400-1751724000@brcstaz.org
SUMMARY:2025 BRFDA Craft Show
DESCRIPTION:Stop by our table at the BRFD Auxiliary “Red Hot Mamas” Craft Show and Sale on July 5th to check out the latest upcoming events and information about BRCST.
URL:https://brcstaz.org/event/2025-brfda-craft-show/
LOCATION:Blue Ridge Fire Department\, 5023 Enchanted Lane\, Happy Jack\, AZ\, 86024\, United States
END:VEVENT
BEGIN:VEVENT
DTSTART;TZID=America/Phoenix:20250802T090000
DTEND;TZID=America/Phoenix:20250802T110000
DTSTAMP:20260425T064521
CREATED:20250709T195016Z
LAST-MODIFIED:20250709T195016Z
UID:268-1754125200-1754132400@brcstaz.org
SUMMARY:Preventing Sex Trafficking
DESCRIPTION:Sex trafficking is the largest illegal industry in America today. It has passed the drug industry. You can only sell a drug one time. A person is sold multiple times. The average trafficked victim in the US is trafficked 10 times a night. Come join us for an important event focused on raising awareness and preventing sex trafficking in our community and state. \nMore info and registration available here: Prevention of Sex Trafficking
URL:https://brcstaz.org/event/preventing-sex-trafficking/
LOCATION:BLue Ridge Community Chuch\, 5706 N. Worship Way\, Happy Jack\, AZ\, 86024\, United States
END:VEVENT
BEGIN:VEVENT
DTSTART;TZID=America/Phoenix:20250909T180000
DTEND;TZID=America/Phoenix:20250909T190000
DTSTAMP:20260425T064521
CREATED:20250813T155803Z
LAST-MODIFIED:20250813T155803Z
UID:280-1757440800-1757444400@brcstaz.org
SUMMARY:General Meeting - September 2025
DESCRIPTION:Our next General Meeting will be September 9\, 2025 at 6:00 PM. We meet at Blue Ridge Community Church. anyone in the community is welcome.
URL:https://brcstaz.org/event/general-meeting-september-2025/
LOCATION:BLue Ridge Community Chuch\, 5706 N. Worship Way\, Happy Jack\, AZ\, 86024\, United States
END:VEVENT
BEGIN:VEVENT
DTSTART;TZID=America/Phoenix:20250927T130000
DTEND;TZID=America/Phoenix:20250927T150000
DTSTAMP:20260425T064521
CREATED:20250830T042446Z
LAST-MODIFIED:20250830T042446Z
UID:284-1758978000-1758985200@brcstaz.org
SUMMARY:Winter Preparedness & Health Awareness
DESCRIPTION:On September 27th at Blue Ridge Community Church 1:00-3:00 PM \nWe are partnering with Blue Ridge Fire District and Coconino County Health and Human Services for our last seminar of 2025.  \nTopics include: \n\n\n\n\n\nWorking together as a community to promote safety\nPreparing your home and vehicles for winter\nStocking up for potential winter storms\nCoordinating with local Emergency Services\nHealth risks in the area\nHealthy choices for living\nHealth checkup and awareness\n\n\n\n\n\nRegister here: Winter Preparedness &amp; Health Awareness
URL:https://brcstaz.org/event/winter-preparedness-health-awareness/
LOCATION:BLue Ridge Community Chuch\, 5706 N. Worship Way\, Happy Jack\, AZ\, 86024\, United States
END:VEVENT
BEGIN:VEVENT
DTSTART;TZID=America/Phoenix:20260305T080000
DTEND;TZID=America/Phoenix:20260305T140000
DTSTAMP:20260425T064521
CREATED:20260226T024746Z
LAST-MODIFIED:20260226T024746Z
UID:303-1772697600-1772719200@brcstaz.org
SUMMARY:CPR Training - March 5\, 2026
DESCRIPTION:BRCST has partnered with BRFD to conduct a 6 hour CPR training event for certification in CPR and AED\, along with First Aid. The training will be at the BRFD station on Enchanted Lane from 8:00 AM to 2:00 PM. Lunch will be provided. \nRegister using this page: CPR Training March 5\, 2026 \nNote: $9 registration is for certification card.
URL:https://brcstaz.org/event/cpr-training-march-5-2026/
LOCATION:Blue Ridge Fire Department\, 5023 Enchanted Lane\, Happy Jack\, AZ\, 86024\, United States
END:VEVENT
BEGIN:VEVENT
DTSTART;TZID=America/Phoenix:20260325T080000
DTEND;TZID=America/Phoenix:20260325T140000
DTSTAMP:20260425T064521
CREATED:20260226T024954Z
LAST-MODIFIED:20260315T004928Z
UID:305-1774425600-1774447200@brcstaz.org
SUMMARY:CPR Training  - March 25\, 2026
DESCRIPTION:BRCST has partnered with BRFD to conduct a 6 hour CPR training event for certification in CPR and AED\, along with First Aid. The training will be at the BRFD station on Enchanted Lane from 8:00 AM to 2:00 PM. Lunch will be provided. \nNote: $9 registration is for certification card. \nNOTICE: Registration for this session is full! Check back in the future for additional training opportunities.
URL:https://brcstaz.org/event/cpr-training-march-25-2026/
LOCATION:Blue Ridge Fire Department\, 5023 Enchanted Lane\, Happy Jack\, AZ\, 86024\, United States
END:VEVENT
BEGIN:VEVENT
DTSTART;TZID=America/Phoenix:20260404T080000
DTEND;TZID=America/Phoenix:20260404T160000
DTSTAMP:20260425T064521
CREATED:20260325T215909Z
LAST-MODIFIED:20260325T215909Z
UID:330-1775289600-1775318400@brcstaz.org
SUMMARY:BRFD Home Ignition Zone Course
DESCRIPTION:
URL:https://brcstaz.org/event/brfd-home-ignition-zone-course/
LOCATION:Blue Ridge Fire Department\, 5023 Enchanted Lane\, Happy Jack\, AZ\, 86024\, United States
END:VEVENT
BEGIN:VEVENT
DTSTART;TZID=America/Phoenix:20260512T080000
DTEND;TZID=America/Phoenix:20260514T170000
DTSTAMP:20260425T064521
CREATED:20260226T151448Z
LAST-MODIFIED:20260226T151448Z
UID:316-1778572800-1778778000@brcstaz.org
SUMMARY:CERT Training 2026
DESCRIPTION:Coconino County CERT will be offering a three-day training for CERT Certification on May 12-14\, 2026. \nSee this page for more info and to register for the training: CERT Training 2026
URL:https://brcstaz.org/event/cert-training-2026/
LOCATION:Blue Ridge Fire Department\, 5023 Enchanted Lane\, Happy Jack\, AZ\, 86024\, United States
END:VEVENT
BEGIN:VEVENT
DTSTART;TZID=America/Phoenix:20260516T090000
DTEND;TZID=America/Phoenix:20260516T150000
DTSTAMP:20260425T064521
CREATED:20260322T210035Z
LAST-MODIFIED:20260330T154833Z
UID:328-1778922000-1778943600@brcstaz.org
SUMMARY:Community Awareness Open House
DESCRIPTION:Mark your calendar for our Community Awareness Open House event at BRFD Station on Enchanted Lane. \nEvent will be from 9:00 AM to 3:00 PM on May 16th. Lunch will be provided by BRCST. \nClick this link for more information and to register: Community Awareness 2026
URL:https://brcstaz.org/event/community-awareness-open-house/
LOCATION:Blue Ridge Fire Department\, 5023 Enchanted Lane\, Happy Jack\, AZ\, 86024\, United States
END:VEVENT
BEGIN:VEVENT
DTSTART;TZID=America/Phoenix:20260613T180000
DTEND;TZID=America/Phoenix:20260613T200000
DTSTAMP:20260425T064521
CREATED:20260418T154728Z
LAST-MODIFIED:20260418T154728Z
UID:347-1781373600-1781380800@brcstaz.org
SUMMARY:2026 Fund Raising Dinner and Auction
DESCRIPTION:Mark your calendar for our BRCST Fund Raising Dinner and Auction. \nWe are still preparing the menu and details for this event\, but it is sure to be one you will not want to miss. \nCheck back here for registration and ticket info in May.
URL:https://brcstaz.org/event/2026-fund-raising-dinner-and-auction/
LOCATION:BLue Ridge Community Chuch\, 5706 N. Worship Way\, Happy Jack\, AZ\, 86024\, United States
END:VEVENT
END:VCALENDAR