BEGIN:VCALENDAR
VERSION:2.0
PRODID:-//Blue Ridge Community Support Team - ECPv6.15.20//NONSGML v1.0//EN
CALSCALE:GREGORIAN
METHOD:PUBLISH
X-WR-CALNAME:Blue Ridge Community Support Team
X-ORIGINAL-URL:https://brcstaz.org
X-WR-CALDESC:Events for Blue Ridge Community Support Team
REFRESH-INTERVAL;VALUE=DURATION:PT1H
X-Robots-Tag:noindex
X-PUBLISHED-TTL:PT1H
BEGIN:VTIMEZONE
TZID:America/Phoenix
BEGIN:STANDARD
TZOFFSETFROM:-0700
TZOFFSETTO:-0700
TZNAME:MST
DTSTART:20220101T000000
END:STANDARD
END:VTIMEZONE
BEGIN:VEVENT
DTSTART;TZID=America/Phoenix:20240313T080000
DTEND;TZID=America/Phoenix:20240313T170000
DTSTAMP:20260425T041508
CREATED:20240203T224707Z
LAST-MODIFIED:20240203T224707Z
UID:159-1710316800-1710349200@brcstaz.org
SUMMARY:Gila County: Active Violence Community Response
DESCRIPTION:Gila County is providing training on Stop the Bleed on March 13\, 2024 from 0800-1700 at the First Baptist Church in Pine. \nThe training is free and will provide certification for Bleeding control and ILIVED. \nRegistration is needed and can be submitted directly to Chief Paine at firechief@brfdaz.com
URL:https://brcstaz.org/event/gila-county-active-violence-community-response/
LOCATION:First Baptist Church – Pine\, 1039 AZ Highway 87\, Pine\, AZ\, United States
END:VEVENT
BEGIN:VEVENT
DTSTART;TZID=America/Phoenix:20240312T180000
DTEND;TZID=America/Phoenix:20240312T193000
DTSTAMP:20260425T041508
CREATED:20240219T154024Z
LAST-MODIFIED:20240219T154024Z
UID:173-1710266400-1710271800@brcstaz.org
SUMMARY:March 2024 - General Meeting
DESCRIPTION:The March 2024 General Meeting will be at the Blue Ridge Community Church on March 12 at 6:00 PM
URL:https://brcstaz.org/event/march-2024-general-meeting/
LOCATION:BLue Ridge Community Chuch\, 5706 N. Worship Way\, Happy Jack\, AZ\, 86024\, United States
END:VEVENT
BEGIN:VEVENT
DTSTART;TZID=America/Phoenix:20240213T180000
DTEND;TZID=America/Phoenix:20240213T190000
DTSTAMP:20260425T041508
CREATED:20240203T225932Z
LAST-MODIFIED:20240203T225932Z
UID:164-1707847200-1707850800@brcstaz.org
SUMMARY:February 2024 General Meeting
DESCRIPTION:February general meeting at BRCC. Discussion on membership and plans for 2024
URL:https://brcstaz.org/event/february-2024-general-meeting/
LOCATION:BLue Ridge Community Chuch\, 5706 N. Worship Way\, Happy Jack\, AZ\, 86024\, United States
END:VEVENT
BEGIN:VEVENT
DTSTART;TZID=America/Phoenix:20240210T080000
DTEND;TZID=America/Phoenix:20240210T110000
DTSTAMP:20260425T041508
CREATED:20240203T223533Z
LAST-MODIFIED:20240203T223533Z
UID:154-1707552000-1707562800@brcstaz.org
SUMMARY:Training: BRFD Continued Integration
DESCRIPTION:Our relationship with the BRFD continues to grow with Pediatrics Ops\, Radio Chatter\, Ambulance Familiarity and Jump Bag Contents training. \nTraining will be February 10 at 8:00 AM \nPlease contact Dick if you plan to attend.
URL:https://brcstaz.org/event/training-brfd-continued-integration/
LOCATION:Blue Ridge Fire Department\, 5023 Enchanted Lane\, Happy Jack\, AZ\, 86024\, United States
END:VEVENT
BEGIN:VEVENT
DTSTART;TZID=America/Phoenix:20231118T120000
DTEND;TZID=America/Phoenix:20231118T170000
DTSTAMP:20260425T041508
CREATED:20230913T202610Z
LAST-MODIFIED:20231031T162847Z
UID:118-1700308800-1700326800@brcstaz.org
SUMMARY:HARTT Training - Animal Search
DESCRIPTION:Save the date. Arizona HART organization has announced November 18 as the date for their animal search training. \nTraining will be performed over Zoom and will cost $60/person. \nRegister for the class on the HARTT website below. \nHARTT | Humane Animal Rescue & Trapping Team Arizona (azhartt.org)
URL:https://brcstaz.org/event/hartt-training-animal-search/
LOCATION:AZ
END:VEVENT
BEGIN:VEVENT
DTSTART;TZID=America/Phoenix:20231114T180000
DTEND;TZID=America/Phoenix:20231114T193000
DTSTAMP:20260425T041508
CREATED:20231011T184025Z
LAST-MODIFIED:20231031T163026Z
UID:125-1699984800-1699990200@brcstaz.org
SUMMARY:November 2023 - General/Board Meeting
DESCRIPTION:The Board meeting and General meeting will be combined for the off season months. \nMeeting will be at the Blue Ridge Community Church at 6:00 PM on November 14\, 2023 at 6:00 PM
URL:https://brcstaz.org/event/november-2023-general-board-meeting/
LOCATION:BLue Ridge Community Chuch\, 5706 N. Worship Way\, Happy Jack\, AZ\, 86024\, United States
END:VEVENT
BEGIN:VEVENT
DTSTART;TZID=America/Phoenix:20231010T180000
DTEND;TZID=America/Phoenix:20231010T193000
DTSTAMP:20260425T041508
CREATED:20230913T202259Z
LAST-MODIFIED:20230913T202259Z
UID:116-1696960800-1696966200@brcstaz.org
SUMMARY:October 2023 General Meeting
DESCRIPTION:The October General Meeting will be held at Blue Ridge Community Church on October 10th at 6:00 PM
URL:https://brcstaz.org/event/october-2023-general-meeting/
LOCATION:BLue Ridge Community Chuch\, 5706 N. Worship Way\, Happy Jack\, AZ\, 86024\, United States
END:VEVENT
BEGIN:VEVENT
DTSTART;TZID=America/Phoenix:20230927T080000
DTEND;TZID=America/Phoenix:20230929T170000
DTSTAMP:20260425T041508
CREATED:20230713T224859Z
LAST-MODIFIED:20230815T143155Z
UID:102-1695801600-1696006800@brcstaz.org
SUMMARY:CERT Training
DESCRIPTION:Cert Training by the Coconino County Sheriff’s Office will be conducted September 27\, 28 & 29th. \nContact Jim C. for more information and to register.
URL:https://brcstaz.org/event/cert-training/
LOCATION:Cocono County Sheriff’s Office\, Flagstaff\, AZ\, United States
END:VEVENT
BEGIN:VEVENT
DTSTART;TZID=America/Phoenix:20230912T180000
DTEND;TZID=America/Phoenix:20230912T200000
DTSTAMP:20260425T041508
CREATED:20230815T143749Z
LAST-MODIFIED:20230815T143749Z
UID:109-1694541600-1694548800@brcstaz.org
SUMMARY:September 2023 General Meeting
DESCRIPTION:General meeting for all members and community. \nWe will meet at Blue Ridge Community Church at 6:00PM.
URL:https://brcstaz.org/event/september-2023-general-meeting/
LOCATION:BLue Ridge Community Chuch\, 5706 N. Worship Way\, Happy Jack\, AZ\, 86024\, United States
END:VEVENT
BEGIN:VEVENT
DTSTART;TZID=America/Phoenix:20230826T100000
DTEND;TZID=America/Phoenix:20230826T120000
DTSTAMP:20260425T041508
CREATED:20230815T143459Z
LAST-MODIFIED:20230815T143551Z
UID:106-1693044000-1693051200@brcstaz.org
SUMMARY:Mock Search Aug 26
DESCRIPTION:Training event to practice search techniques. This one will include “find the President” challenge. \nMeet at the Fire Station at 10:00 AM \nBe sure to bring your “go” bag.
URL:https://brcstaz.org/event/mock-search-aug-26/
LOCATION:Blue Ridge Fire Department\, 5023 Enchanted Lane\, Happy Jack\, AZ\, 86024\, United States
END:VEVENT
BEGIN:VEVENT
DTSTART;TZID=America/Phoenix:20230722T080000
DTEND;TZID=America/Phoenix:20230722T150000
DTSTAMP:20260425T041508
CREATED:20230614T145904Z
LAST-MODIFIED:20230614T145904Z
UID:65-1690012800-1690038000@brcstaz.org
SUMMARY:Emergency Skills Training
DESCRIPTION:The Blue Ridge Fire Department will host training for Basic First Aid and CPR/AED. \nBRCST will be providing lunch. \nPlease contact Jim C to Sign up so we can get an accurate count.
URL:https://brcstaz.org/event/emergency-skills-training/
LOCATION:Blue Ridge Fire Department\, 5023 Enchanted Lane\, Happy Jack\, AZ\, 86024\, United States
END:VEVENT
BEGIN:VEVENT
DTSTART;TZID=America/Phoenix:20230711T180000
DTEND;TZID=America/Phoenix:20230711T200000
DTSTAMP:20260425T041508
CREATED:20230614T145226Z
LAST-MODIFIED:20230614T145226Z
UID:62-1689098400-1689105600@brcstaz.org
SUMMARY:July 2023 General Meeting
DESCRIPTION:Our July meeting will be at the Blue Ridge Community Church on 5706 N Worship Way at 6:00 PM.
URL:https://brcstaz.org/event/july-2023-general-meeting/
LOCATION:BLue Ridge Community Chuch\, 5706 N. Worship Way\, Happy Jack\, AZ\, 86024\, United States
END:VEVENT
BEGIN:VEVENT
DTSTART;TZID=America/Phoenix:20230627T180000
DTEND;TZID=America/Phoenix:20230627T193000
DTSTAMP:20260425T041508
CREATED:20230524T160852Z
LAST-MODIFIED:20230524T160852Z
UID:53-1687888800-1687894200@brcstaz.org
SUMMARY:June 2023 Board Meeting
DESCRIPTION:Monthly Board meeting. \nContact Casey for Agenda Items
URL:https://brcstaz.org/event/june-2023-board-meeting/
LOCATION:TBD\, 1352 Green Top Dr\, Happy Jack\, Arizona 86024\, Happy Jack\, AZ\, 86024\, United States
END:VEVENT
BEGIN:VEVENT
DTSTART;TZID=America/Phoenix:20230613T180000
DTEND;TZID=America/Phoenix:20230613T200000
DTSTAMP:20260425T041508
CREATED:20230508T162927Z
LAST-MODIFIED:20230508T162927Z
UID:39-1686679200-1686686400@brcstaz.org
SUMMARY:June 2023 - General Meeting
DESCRIPTION:General Meeting \nLocation: Starlight Pines Community Center
URL:https://brcstaz.org/event/june-2023-general-meeting/
LOCATION:Starlight Pines Community Center\, Happy Jack\, AZ\, 86024\, United States
END:VEVENT
BEGIN:VEVENT
DTSTART;TZID=America/Phoenix:20230523T180000
DTEND;TZID=America/Phoenix:20230523T200000
DTSTAMP:20260425T041508
CREATED:20230508T162619Z
LAST-MODIFIED:20230508T162954Z
UID:35-1684864800-1684872000@brcstaz.org
SUMMARY:May 2023 - Board Meeting
DESCRIPTION:BRCST Board Meeting \nLocation TBD
URL:https://brcstaz.org/event/may-23-board-meeting/
LOCATION:TBD\, 1352 Green Top Dr\, Happy Jack\, Arizona 86024\, Happy Jack\, AZ\, 86024\, United States
END:VEVENT
END:VCALENDAR