BEGIN:VCALENDAR
VERSION:2.0
PRODID:-//Blue Ridge Community Support Team - ECPv6.15.20//NONSGML v1.0//EN
CALSCALE:GREGORIAN
METHOD:PUBLISH
X-ORIGINAL-URL:https://brcstaz.org
X-WR-CALDESC:Events for Blue Ridge Community Support Team
REFRESH-INTERVAL;VALUE=DURATION:PT1H
X-Robots-Tag:noindex
X-PUBLISHED-TTL:PT1H
BEGIN:VTIMEZONE
TZID:America/Phoenix
BEGIN:STANDARD
TZOFFSETFROM:-0700
TZOFFSETTO:-0700
TZNAME:MST
DTSTART:20240101T000000
END:STANDARD
END:VTIMEZONE
BEGIN:VEVENT
DTSTART;TZID=America/Phoenix:20250412T150000
DTEND;TZID=America/Phoenix:20250412T170000
DTSTAMP:20260424T101750
CREATED:20250312T212847Z
LAST-MODIFIED:20250406T210818Z
UID:221-1744470000-1744477200@brcstaz.org
SUMMARY:Emergency Preparedness
DESCRIPTION:Save the date. \nEmergency Preparedness seminar covering Open discussion on how to prepare for the upcoming summer season regarding wildfire preparedness. \nSnack will be served. \nHosted at BRCC from 3:00 – 5:00 PM – NOTE: TIME CHANGE DUE TO EVENT CONFLICT \nView details here:  https://brcstaz.org/wp-content/uploads/2025/03/APRIL-2025-Event-Flyer.pdf \nRegister using the link below: \nEmergency Preparedness Seminar
URL:https://brcstaz.org/event/emergency-preparedness/
LOCATION:BLue Ridge Community Chuch\, 5706 N. Worship Way\, Happy Jack\, AZ\, 86024\, United States
END:VEVENT
END:VCALENDAR